BEGIN:VCALENDAR
VERSION:2.0
PRODID:-//AudioTheme 2.3.8
BEGIN:VEVENT
UID:urn:uuid:637efbfd-1e9f-4d13-bc67-9384d30dd039
URL:https://mitchmcvicker.com/concerts/gig-1282/
DTSTART;VALUE=DATE:20140531
SUMMARY:Lucas Grove Baptist Church
LOCATION:Lucas Grove Baptist Church\, Upton\, KY
END:VEVENT
END:VCALENDAR
