BEGIN:VCALENDAR
VERSION:2.0
PRODID:-//AudioTheme 2.3.8
BEGIN:VEVENT
UID:urn:uuid:bc8b36a3-b10c-4534-9742-0e69dec9c945
URL:https://mitchmcvicker.com/concerts/gig-1279/
DTSTART;VALUE=DATE:20140529
SUMMARY:Life Spring Community Church
LOCATION:Life Spring Community Church\, St. Peters\, MO
END:VEVENT
END:VCALENDAR
