BEGIN:VCALENDAR
VERSION:2.0
PRODID:-//AudioTheme 2.3.8
BEGIN:VEVENT
UID:urn:uuid:3634dfbe-cf40-4ac8-a61b-45427c616e50
URL:https://mitchmcvicker.com/concerts/gig-1277/
DTSTART;VALUE=DATE:20140528
SUMMARY:St. Paul's United Methodist Church
LOCATION:St. Paul's United Methodist Church\, Lenexa\, KS
END:VEVENT
END:VCALENDAR
