BEGIN:VCALENDAR
VERSION:2.0
PRODID:-//AudioTheme 2.3.8
BEGIN:VEVENT
UID:urn:uuid:2f40b70f-f2d8-4e59-aebf-5d593c33a0f1
URL:https://mitchmcvicker.com/concerts/gig-1275/
DTSTART;VALUE=DATE:20140518
SUMMARY:Chapel Hill United Methodist Church
LOCATION:Chapel Hill United Methodist Church\, Oklahoma City\, OK
END:VEVENT
END:VCALENDAR
