BEGIN:VCALENDAR
VERSION:2.0
PRODID:-//AudioTheme 2.3.8
BEGIN:VEVENT
UID:urn:uuid:c81beb47-131a-47dd-9bbd-18ff32293b7d
URL:https://mitchmcvicker.com/concerts/gig-1271/
DTSTART;VALUE=DATE:20140415
SUMMARY:Elburn Hill Church
LOCATION:Elburn Hill Church\, Elburn\, IL
END:VEVENT
END:VCALENDAR
