BEGIN:VCALENDAR
VERSION:2.0
PRODID:-//AudioTheme 2.3.8
BEGIN:VEVENT
UID:urn:uuid:c053378d-5ab4-44b5-8a20-c0a4334baac1
URL:https://mitchmcvicker.com/concerts/gig-1269/
DTSTART;VALUE=DATE:20140504
SUMMARY:Lutheran Church of Peace
LOCATION:Lutheran Church of Peace\, Platteville\, WI
END:VEVENT
END:VCALENDAR
