BEGIN:VCALENDAR
VERSION:2.0
PRODID:-//AudioTheme 2.3.8
BEGIN:VEVENT
UID:urn:uuid:2bd60070-3449-43af-b7ef-7d15292240ea
URL:https://mitchmcvicker.com/concerts/gig-1268/
DTSTART;VALUE=DATE:20140503
SUMMARY:Yola's Cafe
LOCATION:Yola's Cafe\, Madison\, WI
END:VEVENT
END:VCALENDAR
