BEGIN:VCALENDAR
VERSION:2.0
PRODID:-//AudioTheme 2.3.8
BEGIN:VEVENT
UID:urn:uuid:436b4b26-7b74-4ca1-9278-721f10535cea
URL:https://mitchmcvicker.com/concerts/gig-1267/
DTSTART;VALUE=DATE:20140502
SUMMARY:Bethany Lutheran Church
LOCATION:Bethany Lutheran Church\, Star Prairie\, WI
END:VEVENT
END:VCALENDAR
