BEGIN:VCALENDAR
VERSION:2.0
PRODID:-//AudioTheme 2.3.8
BEGIN:VEVENT
UID:urn:uuid:03a2cd99-9dae-4153-ab80-ff2e48e014ed
URL:https://mitchmcvicker.com/concerts/gig-1266/
DTSTART;VALUE=DATE:20140501
SUMMARY:Trinity Lutheran Church
LOCATION:Trinity Lutheran Church\, 1410 Rogers St\, Stevens Point\, WI\, USA\, 54481
END:VEVENT
END:VCALENDAR
