BEGIN:VCALENDAR
VERSION:2.0
PRODID:-//AudioTheme 2.3.8
BEGIN:VEVENT
UID:urn:uuid:d59a2953-1918-4472-9dda-2ebae070b608
URL:https://mitchmcvicker.com/concerts/gig-1264/
DTSTART;VALUE=DATE:20140427
SUMMARY:Hillcrest Baptist Church
LOCATION:Hillcrest Baptist Church\, Sioux Falls\, SD
END:VEVENT
END:VCALENDAR
