BEGIN:VCALENDAR
VERSION:2.0
PRODID:-//AudioTheme 2.3.8
BEGIN:VEVENT
UID:urn:uuid:a3291cbf-571e-4c40-b4dd-af60f8d5abbc
URL:https://mitchmcvicker.com/concerts/gig-1262/
DTSTART;VALUE=DATE:20140426
SUMMARY:Shenandoah Assembly of God
LOCATION:Shenandoah Assembly of God\, Shenandoah\, IA
END:VEVENT
END:VCALENDAR
