BEGIN:VCALENDAR
VERSION:2.0
PRODID:-//AudioTheme 2.3.8
BEGIN:VEVENT
UID:urn:uuid:dfab0da4-0b4e-4bf2-a7aa-d98c0a526630
URL:https://mitchmcvicker.com/concerts/gig-1260/
DTSTART;VALUE=DATE:20140425
SUMMARY:Gathering Grounds Coffee Shop
LOCATION:Gathering Grounds Coffee Shop\, Pendleton\, IN
END:VEVENT
END:VCALENDAR
