BEGIN:VCALENDAR
VERSION:2.0
PRODID:-//AudioTheme 2.3.8
BEGIN:VEVENT
UID:urn:uuid:73a2b246-c122-406a-a81d-9b404157f7b0
URL:https://mitchmcvicker.com/concerts/gig-1258/
DTSTART;VALUE=DATE:20140424
SUMMARY:Cornerstone Baptist Church
LOCATION:Cornerstone Baptist Church\, Gladwin\, MI
END:VEVENT
END:VCALENDAR
