BEGIN:VCALENDAR
VERSION:2.0
PRODID:-//AudioTheme 2.3.8
BEGIN:VEVENT
UID:urn:uuid:ca922c47-8341-4960-9476-7786309fa859
URL:https://mitchmcvicker.com/concerts/gig-1256/
DTSTART;VALUE=DATE:20140423
SUMMARY:Asbury United Methodist Church
LOCATION:Asbury United Methodist Church\, Lansing\, MI
END:VEVENT
END:VCALENDAR
