BEGIN:VCALENDAR
VERSION:2.0
PRODID:-//AudioTheme 2.3.8
BEGIN:VEVENT
UID:urn:uuid:3e5c8c50-0786-41dc-a3c5-20446090d1d3
URL:https://mitchmcvicker.com/concerts/gig-1254/
DTSTART;VALUE=DATE:20140422
SUMMARY:Second Chance Outreach Ministries
LOCATION:Second Chance Outreach Ministries\, Youngstown\, OH
END:VEVENT
END:VCALENDAR
