BEGIN:VCALENDAR
VERSION:2.0
PRODID:-//AudioTheme 2.3.8
BEGIN:VEVENT
UID:urn:uuid:ad6e41a5-ad0c-443c-9e3a-41733eb67779
URL:https://mitchmcvicker.com/concerts/gig-1252/
DTSTART;VALUE=DATE:20140414
SUMMARY:The Sheperd's Fellowship
LOCATION:The Sheperd's Fellowship\, Marion\, OH
END:VEVENT
END:VCALENDAR
