BEGIN:VCALENDAR
VERSION:2.0
PRODID:-//AudioTheme 2.3.8
BEGIN:VEVENT
UID:urn:uuid:03852533-1740-4c4d-9716-352fcb49c8dd
URL:https://mitchmcvicker.com/concerts/gig-1251/
DTSTART;VALUE=DATE:20140413
SUMMARY:Journey Church
LOCATION:Journey Church\, Westerville\, OH
END:VEVENT
END:VCALENDAR
