BEGIN:VCALENDAR
VERSION:2.0
PRODID:-//AudioTheme 2.3.8
BEGIN:VEVENT
UID:urn:uuid:770d5842-685a-4d48-9266-dc09ce1dd7a2
URL:https://mitchmcvicker.com/concerts/gig-1249/
DTSTART;VALUE=DATE:20140412
SUMMARY:The Mission Church
LOCATION:The Mission Church\, Abilene\, TX
END:VEVENT
END:VCALENDAR
