BEGIN:VCALENDAR
VERSION:2.0
PRODID:-//AudioTheme 2.3.8
BEGIN:VEVENT
UID:urn:uuid:0f5b16af-2140-4702-9a62-bb4cc70a0935
URL:https://mitchmcvicker.com/concerts/gig-1247/
DTSTART;VALUE=DATE:20140411
SUMMARY:Freedom Baptist Church
LOCATION:Freedom Baptist Church\, Wilmington\, NC
END:VEVENT
END:VCALENDAR
