BEGIN:VCALENDAR
VERSION:2.0
PRODID:-//AudioTheme 2.3.8
BEGIN:VEVENT
UID:urn:uuid:13bbb80d-427b-4688-bdfd-604581cd6aa0
URL:https://mitchmcvicker.com/concerts/gig-1246/
DTSTART;VALUE=DATE:20140410
SUMMARY:East Bartlesville Christian Church
LOCATION:East Bartlesville Christian Church\, Bartlesville\, OK
END:VEVENT
END:VCALENDAR
