BEGIN:VCALENDAR
VERSION:2.0
PRODID:-//AudioTheme 2.3.8
BEGIN:VEVENT
UID:urn:uuid:88280522-88d5-4f2f-9e8a-5be5cb6b0ea1
URL:https://mitchmcvicker.com/concerts/gig-1245/
DTSTART;VALUE=DATE:20140409
SUMMARY:Pleasant Garden Baptist Church
LOCATION:Pleasant Garden Baptist Church\, 1415 Neelley Rd\, Pleasant Garden\, NC\, 27313
END:VEVENT
END:VCALENDAR
