BEGIN:VCALENDAR
VERSION:2.0
PRODID:-//AudioTheme 2.3.8
BEGIN:VEVENT
UID:urn:uuid:22b04c63-cc33-4ada-bc1a-154fc395118f
URL:https://mitchmcvicker.com/concerts/gig-1243/
DTSTART;VALUE=DATE:20140408
SUMMARY:Morrison Home
LOCATION:Morrison Home\, Alexandria\, VA
END:VEVENT
END:VCALENDAR
