BEGIN:VCALENDAR
VERSION:2.0
PRODID:-//AudioTheme 2.3.8
BEGIN:VEVENT
UID:urn:uuid:731bd86b-e76b-4af6-bd8e-9ecbb1f4c8b0
URL:https://mitchmcvicker.com/concerts/gig-1238/
DTSTART;VALUE=DATE:20140322
SUMMARY:Royal Redeemer Lutheran Church
LOCATION:Royal Redeemer Lutheran Church\, North Royalton\, OH
END:VEVENT
END:VCALENDAR
