BEGIN:VCALENDAR
VERSION:2.0
PRODID:-//AudioTheme 2.3.8
BEGIN:VEVENT
UID:urn:uuid:9298ef74-2c7c-44e4-8ff9-f62dac9921ad
URL:https://mitchmcvicker.com/concerts/gig-1236/
DTSTART;VALUE=DATE:20140321
SUMMARY:Jersey Shore Calvary Chapel
LOCATION:Jersey Shore Calvary Chapel\, Point Pleasant Beach\, NJ
END:VEVENT
END:VCALENDAR
