BEGIN:VCALENDAR
VERSION:2.0
PRODID:-//AudioTheme 2.3.8
BEGIN:VEVENT
UID:urn:uuid:4cb14bd8-fa91-4314-8841-57726578c0bb
URL:https://mitchmcvicker.com/concerts/gig-1234/
DTSTART;VALUE=DATE:20140320
SUMMARY:Blessed Sacrament Church
LOCATION:Blessed Sacrament Church\, 263 Claremont Ave\, Tonawanda\, NY
END:VEVENT
END:VCALENDAR
