BEGIN:VCALENDAR
VERSION:2.0
PRODID:-//AudioTheme 2.3.8
BEGIN:VEVENT
UID:urn:uuid:04f91cb1-edd6-47e7-b737-ae328cf89cf8
URL:https://mitchmcvicker.com/concerts/gig-1232/
DTSTART;VALUE=DATE:20140316
SUMMARY:Smyrna Baptist Church
LOCATION:Smyrna Baptist Church\, Spiceland\, IN
END:VEVENT
END:VCALENDAR
