BEGIN:VCALENDAR
VERSION:2.0
PRODID:-//AudioTheme 2.3.8
BEGIN:VEVENT
UID:urn:uuid:4768ab02-acde-4b62-9b86-9a8a8d8abc3a
URL:https://mitchmcvicker.com/concerts/gig-1230/
DTSTART;VALUE=DATE:20140316
SUMMARY:Followers of Christ Baptist Church
LOCATION:Followers of Christ Baptist Church\, Carlisle\, IN
END:VEVENT
END:VCALENDAR
