BEGIN:VCALENDAR
VERSION:2.0
PRODID:-//AudioTheme 2.3.8
BEGIN:VEVENT
UID:urn:uuid:0349ecc1-9f50-4d2e-9839-b387b0047be9
URL:https://mitchmcvicker.com/concerts/gig-1228/
DTSTART;VALUE=DATE:20140315
SUMMARY:Simon J. Graber Building
LOCATION:Simon J. Graber Building\, North Odon\, IN
END:VEVENT
END:VCALENDAR
