BEGIN:VCALENDAR
VERSION:2.0
PRODID:-//AudioTheme 2.3.8
BEGIN:VEVENT
UID:urn:uuid:e06543c5-1e15-4ed0-a8a7-c1b7a124f602
URL:https://mitchmcvicker.com/concerts/gig-1226/
DTSTART;VALUE=DATE:20140314
SUMMARY:Fellowship Baptist Church
LOCATION:Fellowship Baptist Church\, Racine\, WI
END:VEVENT
END:VCALENDAR
