BEGIN:VCALENDAR
VERSION:2.0
PRODID:-//AudioTheme 2.3.8
BEGIN:VEVENT
UID:urn:uuid:f1721c9d-a47c-4447-b018-011aaaffc897
URL:https://mitchmcvicker.com/concerts/gig-1224/
DTSTART;VALUE=DATE:20140308
SUMMARY:Wagon Wheel Event Center
LOCATION:Wagon Wheel Event Center\, Goshen\, IN
END:VEVENT
END:VCALENDAR
