BEGIN:VCALENDAR
VERSION:2.0
PRODID:-//AudioTheme 2.3.8
BEGIN:VEVENT
UID:urn:uuid:b8a24228-8186-400a-97a1-9434d10181fd
URL:https://mitchmcvicker.com/concerts/gig-1222/
DTSTART;VALUE=DATE:20140307
SUMMARY:Father John's (The Sanctuary)
LOCATION:Father John's (The Sanctuary)\, Bryan\, OH
END:VEVENT
END:VCALENDAR
