BEGIN:VCALENDAR
VERSION:2.0
PRODID:-//AudioTheme 2.3.8
BEGIN:VEVENT
UID:urn:uuid:00ef76f7-e1cb-4b9b-8040-9519842c8f0d
URL:https://mitchmcvicker.com/concerts/gig-1218/
DTSTART;VALUE=DATE:20140302
SUMMARY:Huntsville Good Shepherd Community Church
LOCATION:Huntsville Good Shepherd Community Church\, Pendleton\, IN
END:VEVENT
END:VCALENDAR
