BEGIN:VCALENDAR
VERSION:2.0
PRODID:-//AudioTheme 2.3.8
BEGIN:VEVENT
UID:urn:uuid:6948c8e4-1c42-4123-b6a1-08152a5f8d36
URL:https://mitchmcvicker.com/concerts/gig-1216/
DTSTART;VALUE=DATE:20140302
SUMMARY:Next Chapter Church
LOCATION:Next Chapter Church\, 5300 Taylor Mill Road\, Taylor Mill\, KY
END:VEVENT
END:VCALENDAR
