BEGIN:VCALENDAR
VERSION:2.0
PRODID:-//AudioTheme 2.3.8
BEGIN:VEVENT
UID:urn:uuid:1979b23e-cde2-4e85-b23b-5ba3ea90ecac
URL:https://mitchmcvicker.com/concerts/gig-1214/
DTSTART;VALUE=DATE:20140301
SUMMARY:The Ice House
LOCATION:The Ice House\, Muncie\, IN
END:VEVENT
END:VCALENDAR
