BEGIN:VCALENDAR
VERSION:2.0
PRODID:-//AudioTheme 2.3.8
BEGIN:VEVENT
UID:urn:uuid:9b046111-f0ff-4543-b65a-3860e42d5178
URL:https://mitchmcvicker.com/concerts/gig-1213/
DTSTART;VALUE=DATE:20140228
SUMMARY:Forward Community Church
LOCATION:Forward Community Church\, 298 Missouri State Rd 131\, Holden\, MO\, 64040
END:VEVENT
END:VCALENDAR
