BEGIN:VCALENDAR
VERSION:2.0
PRODID:-//AudioTheme 2.3.8
BEGIN:VEVENT
UID:urn:uuid:d1a6e5db-4352-428f-90f1-9d0cde00bf7d
URL:https://mitchmcvicker.com/concerts/gig-1211/
DTSTART;VALUE=DATE:20140222
SUMMARY:Vineyard Church of Cedar Rapids
LOCATION:Vineyard Church of Cedar Rapids\, Cedar Rapids\, IA
END:VEVENT
END:VCALENDAR
