BEGIN:VCALENDAR
VERSION:2.0
PRODID:-//AudioTheme 2.3.8
BEGIN:VEVENT
UID:urn:uuid:630e006e-ec2e-4e70-8e38-9565216a37f4
URL:https://mitchmcvicker.com/concerts/gig-1210/
DTSTART;VALUE=DATE:20140221
SUMMARY:Blind Munchies Coffeehouse
LOCATION:Blind Munchies Coffeehouse\, Menomonie\, WI
END:VEVENT
END:VCALENDAR
