BEGIN:VCALENDAR
VERSION:2.0
PRODID:-//AudioTheme 2.3.8
BEGIN:VEVENT
UID:urn:uuid:f4a87603-66f1-4f55-a5f8-81fdb44cecc3
URL:https://mitchmcvicker.com/concerts/gig-1209/
DTSTART;VALUE=DATE:20140220
SUMMARY:Christian Campus Fellowship
LOCATION:Christian Campus Fellowship\, 102 E Lyndale Ave Vincennes\, Indiana 47591-2433\, Vincennes\, IN
END:VEVENT
END:VCALENDAR
