BEGIN:VCALENDAR
VERSION:2.0
PRODID:-//AudioTheme 2.3.8
BEGIN:VEVENT
UID:urn:uuid:194f6253-2241-4865-a29a-60e492a30d9b
URL:https://mitchmcvicker.com/concerts/gig-1208/
DTSTART;VALUE=DATE:20140219
SUMMARY:Grace and Truth Church
LOCATION:Grace and Truth Church\, 515 University Blvd.\, Birmingham\, AL
END:VEVENT
END:VCALENDAR
