BEGIN:VCALENDAR
VERSION:2.0
PRODID:-//AudioTheme 2.3.8
BEGIN:VEVENT
UID:urn:uuid:6e8497f8-4266-4952-938f-a397c98c8f0a
URL:https://mitchmcvicker.com/concerts/gig-1206/
DTSTART;VALUE=DATE:20140209
SUMMARY:Pursuit Christian Fellowship
LOCATION:Pursuit Christian Fellowship\, Sachse\, TX
END:VEVENT
END:VCALENDAR
