BEGIN:VCALENDAR
VERSION:2.0
PRODID:-//AudioTheme 2.3.8
BEGIN:VEVENT
UID:urn:uuid:26ba2a63-5f44-4f86-b033-8276fd3a86fd
URL:https://mitchmcvicker.com/concerts/gig-1204/
DTSTART;VALUE=DATE:20140208
SUMMARY:Little City Baptist Church
LOCATION:Little City Baptist Church\, Madill\, OK
END:VEVENT
END:VCALENDAR
