BEGIN:VCALENDAR
VERSION:2.0
PRODID:-//AudioTheme 2.3.8
BEGIN:VEVENT
UID:urn:uuid:cb91d497-2fea-40b9-a734-57b35def0916
URL:https://mitchmcvicker.com/concerts/gig-1202/
DTSTART;VALUE=DATE:20140207
SUMMARY:Renegade Church
LOCATION:Renegade Church\, Victoria\, TX
END:VEVENT
END:VCALENDAR
