BEGIN:VCALENDAR
VERSION:2.0
PRODID:-//AudioTheme 2.3.8
BEGIN:VEVENT
UID:urn:uuid:2a17b416-0a9d-4675-9294-8d89956fcb08
URL:https://mitchmcvicker.com/concerts/gig-1200/
DTSTART;VALUE=DATE:20140205
SUMMARY:Lakeway United Methodist Church
LOCATION:Lakeway United Methodist Church\, Pottsboro\, TX
END:VEVENT
END:VCALENDAR
