BEGIN:VCALENDAR
VERSION:2.0
PRODID:-//AudioTheme 2.3.8
BEGIN:VEVENT
UID:urn:uuid:a5317453-2d41-434c-b055-ca50c21173be
URL:https://mitchmcvicker.com/concerts/gig-1198/
DTSTART;VALUE=DATE:20151122
SUMMARY:Raleigh Road Baptist Church
LOCATION:Raleigh Road Baptist Church\, Wilson\, NC
END:VEVENT
END:VCALENDAR
