BEGIN:VCALENDAR
VERSION:2.0
PRODID:-//AudioTheme 2.3.8
BEGIN:VEVENT
UID:urn:uuid:41a1b09d-be0a-4b40-bc2b-53ae18c812a5
URL:https://mitchmcvicker.com/concerts/gig-1196/
DTSTART;VALUE=DATE:20151122
SUMMARY:Pleasant Garden Baptist Church
LOCATION:Pleasant Garden Baptist Church\, Pleasant Garden\, NC
END:VEVENT
END:VCALENDAR
