BEGIN:VCALENDAR
VERSION:2.0
PRODID:-//AudioTheme 2.3.8
BEGIN:VEVENT
UID:urn:uuid:e98d0645-e106-45df-b8a1-f2bc0fcfa7d4
URL:https://mitchmcvicker.com/concerts/gig-1194/
DTSTART;VALUE=DATE:20151121
SUMMARY:The Upper Room
LOCATION:The Upper Room\, Pleasant Garden\, NC
END:VEVENT
END:VCALENDAR
