BEGIN:VCALENDAR
VERSION:2.0
PRODID:-//AudioTheme 2.3.8
BEGIN:VEVENT
UID:urn:uuid:2179826e-9016-43a8-a07a-36039a41a66e
URL:https://mitchmcvicker.com/concerts/gig-1192/
DTSTART;VALUE=DATE:20151119
SUMMARY:International Family Church
LOCATION:International Family Church\, Columbia\, SC
END:VEVENT
END:VCALENDAR
