BEGIN:VCALENDAR
VERSION:2.0
PRODID:-//AudioTheme 2.3.8
BEGIN:VEVENT
UID:urn:uuid:46451201-ac5d-46d8-b009-da4fe32d5b58
URL:https://mitchmcvicker.com/concerts/gig-1188/
DTSTART;VALUE=DATE:20151024
SUMMARY:Lighthouse Church
LOCATION:Lighthouse Church\, Cape May\, NJ
END:VEVENT
END:VCALENDAR
