BEGIN:VCALENDAR
VERSION:2.0
PRODID:-//AudioTheme 2.3.8
BEGIN:VEVENT
UID:urn:uuid:8594a5ac-ec85-4569-a388-ea0de3d31b3a
URL:https://mitchmcvicker.com/concerts/gig-1185/
DTSTART;VALUE=DATE:20151022
SUMMARY:Verona Seventh Day Baptist Church
LOCATION:Verona Seventh Day Baptist Church\, Verona\, NY
END:VEVENT
END:VCALENDAR
