BEGIN:VCALENDAR
VERSION:2.0
PRODID:-//AudioTheme 2.3.8
BEGIN:VEVENT
UID:urn:uuid:a37a3862-0e3e-46ed-84e2-191cd4b4c76e
URL:https://mitchmcvicker.com/concerts/gig-1183/
DTSTART;VALUE=DATE:20151021
SUMMARY:Macksburg United Methodist Church
LOCATION:Macksburg United Methodist Church\, Macksburg\, OH
END:VEVENT
END:VCALENDAR
